BEGIN:VCALENDAR
VERSION:2.0
PRODID:-//Municipalité de Saint-Cyrille-de-Wendover - ECPv6.15.20//NONSGML v1.0//EN
CALSCALE:GREGORIAN
METHOD:PUBLISH
X-WR-CALNAME:Municipalité de Saint-Cyrille-de-Wendover
X-ORIGINAL-URL:https://stcyrille.qc.ca
X-WR-CALDESC:Événements pour Municipalité de Saint-Cyrille-de-Wendover
REFRESH-INTERVAL;VALUE=DURATION:PT1H
X-Robots-Tag:noindex
X-PUBLISHED-TTL:PT1H
BEGIN:VTIMEZONE
TZID:America/New_York
BEGIN:DAYLIGHT
TZOFFSETFROM:-0500
TZOFFSETTO:-0400
TZNAME:EDT
DTSTART:20230312T070000
END:DAYLIGHT
BEGIN:STANDARD
TZOFFSETFROM:-0400
TZOFFSETTO:-0500
TZNAME:EST
DTSTART:20231105T060000
END:STANDARD
BEGIN:DAYLIGHT
TZOFFSETFROM:-0500
TZOFFSETTO:-0400
TZNAME:EDT
DTSTART:20240310T070000
END:DAYLIGHT
BEGIN:STANDARD
TZOFFSETFROM:-0400
TZOFFSETTO:-0500
TZNAME:EST
DTSTART:20241103T060000
END:STANDARD
BEGIN:DAYLIGHT
TZOFFSETFROM:-0500
TZOFFSETTO:-0400
TZNAME:EDT
DTSTART:20250309T070000
END:DAYLIGHT
BEGIN:STANDARD
TZOFFSETFROM:-0400
TZOFFSETTO:-0500
TZNAME:EST
DTSTART:20251102T060000
END:STANDARD
END:VTIMEZONE
BEGIN:VEVENT
DTSTART;VALUE=DATE:20240517
DTEND;VALUE=DATE:20240518
DTSTAMP:20260421T154912
CREATED:20231205T201634Z
LAST-MODIFIED:20231205T201634Z
UID:4891-1715904000-1715990399@stcyrille.qc.ca
SUMMARY:Bac brun
DESCRIPTION:
URL:https://stcyrille.qc.ca/calendrier/bac-brun-2/2024-05-17/
CATEGORIES:Organique (Bac brun)
END:VEVENT
BEGIN:VEVENT
DTSTART;VALUE=DATE:20240503
DTEND;VALUE=DATE:20240504
DTSTAMP:20260421T154912
CREATED:20231205T201634Z
LAST-MODIFIED:20231205T201634Z
UID:4890-1714694400-1714780799@stcyrille.qc.ca
SUMMARY:Bac brun
DESCRIPTION:
URL:https://stcyrille.qc.ca/calendrier/bac-brun-2/2024-05-03/
CATEGORIES:Organique (Bac brun)
END:VEVENT
BEGIN:VEVENT
DTSTART;VALUE=DATE:20240405
DTEND;VALUE=DATE:20240406
DTSTAMP:20260421T154912
CREATED:20231205T201634Z
LAST-MODIFIED:20231205T201634Z
UID:4887-1712275200-1712361599@stcyrille.qc.ca
SUMMARY:Bac brun
DESCRIPTION:
URL:https://stcyrille.qc.ca/calendrier/bac-brun-2/2024-04-05/
CATEGORIES:Organique (Bac brun)
END:VEVENT
END:VCALENDAR