BEGIN:VCALENDAR
VERSION:2.0
PRODID:-//Municipalité de Saint-Cyrille-de-Wendover - ECPv6.15.17//NONSGML v1.0//EN
CALSCALE:GREGORIAN
METHOD:PUBLISH
X-WR-CALNAME:Municipalité de Saint-Cyrille-de-Wendover
X-ORIGINAL-URL:https://stcyrille.qc.ca
X-WR-CALDESC:Événements pour Municipalité de Saint-Cyrille-de-Wendover
REFRESH-INTERVAL;VALUE=DURATION:PT1H
X-Robots-Tag:noindex
X-PUBLISHED-TTL:PT1H
BEGIN:VTIMEZONE
TZID:America/New_York
BEGIN:DAYLIGHT
TZOFFSETFROM:-0500
TZOFFSETTO:-0400
TZNAME:EDT
DTSTART:20230312T070000
END:DAYLIGHT
BEGIN:STANDARD
TZOFFSETFROM:-0400
TZOFFSETTO:-0500
TZNAME:EST
DTSTART:20231105T060000
END:STANDARD
BEGIN:DAYLIGHT
TZOFFSETFROM:-0500
TZOFFSETTO:-0400
TZNAME:EDT
DTSTART:20240310T070000
END:DAYLIGHT
BEGIN:STANDARD
TZOFFSETFROM:-0400
TZOFFSETTO:-0500
TZNAME:EST
DTSTART:20241103T060000
END:STANDARD
BEGIN:DAYLIGHT
TZOFFSETFROM:-0500
TZOFFSETTO:-0400
TZNAME:EDT
DTSTART:20250309T070000
END:DAYLIGHT
BEGIN:STANDARD
TZOFFSETFROM:-0400
TZOFFSETTO:-0500
TZNAME:EST
DTSTART:20251102T060000
END:STANDARD
END:VTIMEZONE
BEGIN:VEVENT
DTSTART;VALUE=DATE:20241129
DTEND;VALUE=DATE:20241130
DTSTAMP:20260421T075342
CREATED:20231205T201740Z
LAST-MODIFIED:20231205T201740Z
UID:4941-1732838400-1732924799@stcyrille.qc.ca
SUMMARY:Bac brun
DESCRIPTION:
URL:https://stcyrille.qc.ca/calendrier/bac-brun-3/2024-11-29/
CATEGORIES:Organique (Bac brun)
ATTACH;FMTTYPE=image/jpeg:https://stcyrille.qc.ca/wp-content/uploads/2023/05/Bac-brun_Municipalite-St-Cyrille-de-Wendover.jpg
END:VEVENT
BEGIN:VEVENT
DTSTART;VALUE=DATE:20241122
DTEND;VALUE=DATE:20241123
DTSTAMP:20260421T075342
CREATED:20231205T201740Z
LAST-MODIFIED:20231205T201740Z
UID:4940-1732233600-1732319999@stcyrille.qc.ca
SUMMARY:Bac brun
DESCRIPTION:
URL:https://stcyrille.qc.ca/calendrier/bac-brun-3/2024-11-22/
CATEGORIES:Organique (Bac brun)
ATTACH;FMTTYPE=image/jpeg:https://stcyrille.qc.ca/wp-content/uploads/2023/05/Bac-brun_Municipalite-St-Cyrille-de-Wendover.jpg
END:VEVENT
BEGIN:VEVENT
DTSTART;VALUE=DATE:20241115
DTEND;VALUE=DATE:20241116
DTSTAMP:20260421T075342
CREATED:20231205T201740Z
LAST-MODIFIED:20231205T201740Z
UID:4939-1731628800-1731715199@stcyrille.qc.ca
SUMMARY:Bac brun
DESCRIPTION:
URL:https://stcyrille.qc.ca/calendrier/bac-brun-3/2024-11-15/
CATEGORIES:Organique (Bac brun)
ATTACH;FMTTYPE=image/jpeg:https://stcyrille.qc.ca/wp-content/uploads/2023/05/Bac-brun_Municipalite-St-Cyrille-de-Wendover.jpg
END:VEVENT
BEGIN:VEVENT
DTSTART;VALUE=DATE:20241108
DTEND;VALUE=DATE:20241109
DTSTAMP:20260421T075342
CREATED:20231205T201740Z
LAST-MODIFIED:20231205T201740Z
UID:4938-1731024000-1731110399@stcyrille.qc.ca
SUMMARY:Bac brun
DESCRIPTION:
URL:https://stcyrille.qc.ca/calendrier/bac-brun-3/2024-11-08/
CATEGORIES:Organique (Bac brun)
ATTACH;FMTTYPE=image/jpeg:https://stcyrille.qc.ca/wp-content/uploads/2023/05/Bac-brun_Municipalite-St-Cyrille-de-Wendover.jpg
END:VEVENT
BEGIN:VEVENT
DTSTART;VALUE=DATE:20241101
DTEND;VALUE=DATE:20241102
DTSTAMP:20260421T075342
CREATED:20231205T201740Z
LAST-MODIFIED:20231205T201740Z
UID:4937-1730419200-1730505599@stcyrille.qc.ca
SUMMARY:Bac brun
DESCRIPTION:
URL:https://stcyrille.qc.ca/calendrier/bac-brun-3/2024-11-01/
CATEGORIES:Organique (Bac brun)
ATTACH;FMTTYPE=image/jpeg:https://stcyrille.qc.ca/wp-content/uploads/2023/05/Bac-brun_Municipalite-St-Cyrille-de-Wendover.jpg
END:VEVENT
BEGIN:VEVENT
DTSTART;VALUE=DATE:20241025
DTEND;VALUE=DATE:20241026
DTSTAMP:20260421T075342
CREATED:20231205T201740Z
LAST-MODIFIED:20231205T201740Z
UID:4936-1729814400-1729900799@stcyrille.qc.ca
SUMMARY:Bac brun
DESCRIPTION:
URL:https://stcyrille.qc.ca/calendrier/bac-brun-3/2024-10-25/
CATEGORIES:Organique (Bac brun)
ATTACH;FMTTYPE=image/jpeg:https://stcyrille.qc.ca/wp-content/uploads/2023/05/Bac-brun_Municipalite-St-Cyrille-de-Wendover.jpg
END:VEVENT
BEGIN:VEVENT
DTSTART;VALUE=DATE:20241018
DTEND;VALUE=DATE:20241019
DTSTAMP:20260421T075342
CREATED:20231205T201740Z
LAST-MODIFIED:20231205T201740Z
UID:4913-1729209600-1729295999@stcyrille.qc.ca
SUMMARY:Bac brun
DESCRIPTION:
URL:https://stcyrille.qc.ca/calendrier/bac-brun-3/2024-10-18/
CATEGORIES:Organique (Bac brun)
ATTACH;FMTTYPE=image/jpeg:https://stcyrille.qc.ca/wp-content/uploads/2023/05/Bac-brun_Municipalite-St-Cyrille-de-Wendover.jpg
END:VEVENT
BEGIN:VEVENT
DTSTART;VALUE=DATE:20241011
DTEND;VALUE=DATE:20241012
DTSTAMP:20260421T075342
CREATED:20231205T201740Z
LAST-MODIFIED:20231205T201740Z
UID:4912-1728604800-1728691199@stcyrille.qc.ca
SUMMARY:Bac brun
DESCRIPTION:
URL:https://stcyrille.qc.ca/calendrier/bac-brun-3/2024-10-11/
CATEGORIES:Organique (Bac brun)
ATTACH;FMTTYPE=image/jpeg:https://stcyrille.qc.ca/wp-content/uploads/2023/05/Bac-brun_Municipalite-St-Cyrille-de-Wendover.jpg
END:VEVENT
BEGIN:VEVENT
DTSTART;VALUE=DATE:20241004
DTEND;VALUE=DATE:20241005
DTSTAMP:20260421T075342
CREATED:20231205T201740Z
LAST-MODIFIED:20231205T201740Z
UID:4911-1728000000-1728086399@stcyrille.qc.ca
SUMMARY:Bac brun
DESCRIPTION:
URL:https://stcyrille.qc.ca/calendrier/bac-brun-3/2024-10-04/
CATEGORIES:Organique (Bac brun)
ATTACH;FMTTYPE=image/jpeg:https://stcyrille.qc.ca/wp-content/uploads/2023/05/Bac-brun_Municipalite-St-Cyrille-de-Wendover.jpg
END:VEVENT
BEGIN:VEVENT
DTSTART;VALUE=DATE:20240927
DTEND;VALUE=DATE:20240928
DTSTAMP:20260421T075342
CREATED:20231205T201740Z
LAST-MODIFIED:20231205T201740Z
UID:4910-1727395200-1727481599@stcyrille.qc.ca
SUMMARY:Bac brun
DESCRIPTION:
URL:https://stcyrille.qc.ca/calendrier/bac-brun-3/2024-09-27/
CATEGORIES:Organique (Bac brun)
ATTACH;FMTTYPE=image/jpeg:https://stcyrille.qc.ca/wp-content/uploads/2023/05/Bac-brun_Municipalite-St-Cyrille-de-Wendover.jpg
END:VEVENT
BEGIN:VEVENT
DTSTART;VALUE=DATE:20240920
DTEND;VALUE=DATE:20240921
DTSTAMP:20260421T075342
CREATED:20231205T201740Z
LAST-MODIFIED:20231205T201740Z
UID:4909-1726790400-1726876799@stcyrille.qc.ca
SUMMARY:Bac brun
DESCRIPTION:
URL:https://stcyrille.qc.ca/calendrier/bac-brun-3/2024-09-20/
CATEGORIES:Organique (Bac brun)
ATTACH;FMTTYPE=image/jpeg:https://stcyrille.qc.ca/wp-content/uploads/2023/05/Bac-brun_Municipalite-St-Cyrille-de-Wendover.jpg
END:VEVENT
BEGIN:VEVENT
DTSTART;VALUE=DATE:20240913
DTEND;VALUE=DATE:20240914
DTSTAMP:20260421T075342
CREATED:20231205T201740Z
LAST-MODIFIED:20231205T201740Z
UID:4908-1726185600-1726271999@stcyrille.qc.ca
SUMMARY:Bac brun
DESCRIPTION:
URL:https://stcyrille.qc.ca/calendrier/bac-brun-3/2024-09-13/
CATEGORIES:Organique (Bac brun)
ATTACH;FMTTYPE=image/jpeg:https://stcyrille.qc.ca/wp-content/uploads/2023/05/Bac-brun_Municipalite-St-Cyrille-de-Wendover.jpg
END:VEVENT
BEGIN:VEVENT
DTSTART;VALUE=DATE:20240906
DTEND;VALUE=DATE:20240907
DTSTAMP:20260421T075342
CREATED:20231205T201740Z
LAST-MODIFIED:20231205T201740Z
UID:4907-1725580800-1725667199@stcyrille.qc.ca
SUMMARY:Bac brun
DESCRIPTION:
URL:https://stcyrille.qc.ca/calendrier/bac-brun-3/2024-09-06/
CATEGORIES:Organique (Bac brun)
ATTACH;FMTTYPE=image/jpeg:https://stcyrille.qc.ca/wp-content/uploads/2023/05/Bac-brun_Municipalite-St-Cyrille-de-Wendover.jpg
END:VEVENT
BEGIN:VEVENT
DTSTART;VALUE=DATE:20240830
DTEND;VALUE=DATE:20240831
DTSTAMP:20260421T075342
CREATED:20231205T201740Z
LAST-MODIFIED:20231205T201740Z
UID:4906-1724976000-1725062399@stcyrille.qc.ca
SUMMARY:Bac brun
DESCRIPTION:
URL:https://stcyrille.qc.ca/calendrier/bac-brun-3/2024-08-30/
CATEGORIES:Organique (Bac brun)
ATTACH;FMTTYPE=image/jpeg:https://stcyrille.qc.ca/wp-content/uploads/2023/05/Bac-brun_Municipalite-St-Cyrille-de-Wendover.jpg
END:VEVENT
BEGIN:VEVENT
DTSTART;VALUE=DATE:20240823
DTEND;VALUE=DATE:20240824
DTSTAMP:20260421T075342
CREATED:20231205T201740Z
LAST-MODIFIED:20231205T201740Z
UID:4905-1724371200-1724457599@stcyrille.qc.ca
SUMMARY:Bac brun
DESCRIPTION:
URL:https://stcyrille.qc.ca/calendrier/bac-brun-3/2024-08-23/
CATEGORIES:Organique (Bac brun)
ATTACH;FMTTYPE=image/jpeg:https://stcyrille.qc.ca/wp-content/uploads/2023/05/Bac-brun_Municipalite-St-Cyrille-de-Wendover.jpg
END:VEVENT
BEGIN:VEVENT
DTSTART;VALUE=DATE:20240816
DTEND;VALUE=DATE:20240817
DTSTAMP:20260421T075342
CREATED:20231205T201740Z
LAST-MODIFIED:20231205T201740Z
UID:4904-1723766400-1723852799@stcyrille.qc.ca
SUMMARY:Bac brun
DESCRIPTION:
URL:https://stcyrille.qc.ca/calendrier/bac-brun-3/2024-08-16/
CATEGORIES:Organique (Bac brun)
ATTACH;FMTTYPE=image/jpeg:https://stcyrille.qc.ca/wp-content/uploads/2023/05/Bac-brun_Municipalite-St-Cyrille-de-Wendover.jpg
END:VEVENT
BEGIN:VEVENT
DTSTART;VALUE=DATE:20240809
DTEND;VALUE=DATE:20240810
DTSTAMP:20260421T075342
CREATED:20231205T201740Z
LAST-MODIFIED:20231205T201740Z
UID:4903-1723161600-1723247999@stcyrille.qc.ca
SUMMARY:Bac brun
DESCRIPTION:
URL:https://stcyrille.qc.ca/calendrier/bac-brun-3/2024-08-09/
CATEGORIES:Organique (Bac brun)
ATTACH;FMTTYPE=image/jpeg:https://stcyrille.qc.ca/wp-content/uploads/2023/05/Bac-brun_Municipalite-St-Cyrille-de-Wendover.jpg
END:VEVENT
BEGIN:VEVENT
DTSTART;VALUE=DATE:20240802
DTEND;VALUE=DATE:20240803
DTSTAMP:20260421T075342
CREATED:20231205T201740Z
LAST-MODIFIED:20231205T201740Z
UID:4902-1722556800-1722643199@stcyrille.qc.ca
SUMMARY:Bac brun
DESCRIPTION:
URL:https://stcyrille.qc.ca/calendrier/bac-brun-3/2024-08-02/
CATEGORIES:Organique (Bac brun)
ATTACH;FMTTYPE=image/jpeg:https://stcyrille.qc.ca/wp-content/uploads/2023/05/Bac-brun_Municipalite-St-Cyrille-de-Wendover.jpg
END:VEVENT
BEGIN:VEVENT
DTSTART;VALUE=DATE:20240726
DTEND;VALUE=DATE:20240727
DTSTAMP:20260421T075342
CREATED:20231205T201740Z
LAST-MODIFIED:20231205T201740Z
UID:4901-1721952000-1722038399@stcyrille.qc.ca
SUMMARY:Bac brun
DESCRIPTION:
URL:https://stcyrille.qc.ca/calendrier/bac-brun-3/2024-07-26/
CATEGORIES:Organique (Bac brun)
ATTACH;FMTTYPE=image/jpeg:https://stcyrille.qc.ca/wp-content/uploads/2023/05/Bac-brun_Municipalite-St-Cyrille-de-Wendover.jpg
END:VEVENT
BEGIN:VEVENT
DTSTART;VALUE=DATE:20240719
DTEND;VALUE=DATE:20240720
DTSTAMP:20260421T075342
CREATED:20231205T201740Z
LAST-MODIFIED:20231205T201740Z
UID:4900-1721347200-1721433599@stcyrille.qc.ca
SUMMARY:Bac brun
DESCRIPTION:
URL:https://stcyrille.qc.ca/calendrier/bac-brun-3/2024-07-19/
CATEGORIES:Organique (Bac brun)
ATTACH;FMTTYPE=image/jpeg:https://stcyrille.qc.ca/wp-content/uploads/2023/05/Bac-brun_Municipalite-St-Cyrille-de-Wendover.jpg
END:VEVENT
BEGIN:VEVENT
DTSTART;VALUE=DATE:20240712
DTEND;VALUE=DATE:20240713
DTSTAMP:20260421T075342
CREATED:20231205T201740Z
LAST-MODIFIED:20231205T201740Z
UID:4899-1720742400-1720828799@stcyrille.qc.ca
SUMMARY:Bac brun
DESCRIPTION:
URL:https://stcyrille.qc.ca/calendrier/bac-brun-3/2024-07-12/
CATEGORIES:Organique (Bac brun)
ATTACH;FMTTYPE=image/jpeg:https://stcyrille.qc.ca/wp-content/uploads/2023/05/Bac-brun_Municipalite-St-Cyrille-de-Wendover.jpg
END:VEVENT
BEGIN:VEVENT
DTSTART;VALUE=DATE:20240705
DTEND;VALUE=DATE:20240706
DTSTAMP:20260421T075342
CREATED:20231205T201740Z
LAST-MODIFIED:20231205T201740Z
UID:4898-1720137600-1720223999@stcyrille.qc.ca
SUMMARY:Bac brun
DESCRIPTION:
URL:https://stcyrille.qc.ca/calendrier/bac-brun-3/2024-07-05/
CATEGORIES:Organique (Bac brun)
ATTACH;FMTTYPE=image/jpeg:https://stcyrille.qc.ca/wp-content/uploads/2023/05/Bac-brun_Municipalite-St-Cyrille-de-Wendover.jpg
END:VEVENT
BEGIN:VEVENT
DTSTART;VALUE=DATE:20240628
DTEND;VALUE=DATE:20240629
DTSTAMP:20260421T075342
CREATED:20231205T201740Z
LAST-MODIFIED:20231205T201740Z
UID:4897-1719532800-1719619199@stcyrille.qc.ca
SUMMARY:Bac brun
DESCRIPTION:
URL:https://stcyrille.qc.ca/calendrier/bac-brun-3/2024-06-28/
CATEGORIES:Organique (Bac brun)
ATTACH;FMTTYPE=image/jpeg:https://stcyrille.qc.ca/wp-content/uploads/2023/05/Bac-brun_Municipalite-St-Cyrille-de-Wendover.jpg
END:VEVENT
BEGIN:VEVENT
DTSTART;VALUE=DATE:20240621
DTEND;VALUE=DATE:20240622
DTSTAMP:20260421T075342
CREATED:20231205T201740Z
LAST-MODIFIED:20231205T201740Z
UID:4896-1718928000-1719014399@stcyrille.qc.ca
SUMMARY:Bac brun
DESCRIPTION:
URL:https://stcyrille.qc.ca/calendrier/bac-brun-3/2024-06-21/
CATEGORIES:Organique (Bac brun)
ATTACH;FMTTYPE=image/jpeg:https://stcyrille.qc.ca/wp-content/uploads/2023/05/Bac-brun_Municipalite-St-Cyrille-de-Wendover.jpg
END:VEVENT
BEGIN:VEVENT
DTSTART;VALUE=DATE:20240614
DTEND;VALUE=DATE:20240615
DTSTAMP:20260421T075342
CREATED:20231205T201740Z
LAST-MODIFIED:20231205T201740Z
UID:4895-1718323200-1718409599@stcyrille.qc.ca
SUMMARY:Bac brun
DESCRIPTION:
URL:https://stcyrille.qc.ca/calendrier/bac-brun-3/2024-06-14/
CATEGORIES:Organique (Bac brun)
ATTACH;FMTTYPE=image/jpeg:https://stcyrille.qc.ca/wp-content/uploads/2023/05/Bac-brun_Municipalite-St-Cyrille-de-Wendover.jpg
END:VEVENT
BEGIN:VEVENT
DTSTART;VALUE=DATE:20240607
DTEND;VALUE=DATE:20240608
DTSTAMP:20260421T075342
CREATED:20231205T201740Z
LAST-MODIFIED:20231205T201740Z
UID:4894-1717718400-1717804799@stcyrille.qc.ca
SUMMARY:Bac brun
DESCRIPTION:
URL:https://stcyrille.qc.ca/calendrier/bac-brun-3/2024-06-07/
CATEGORIES:Organique (Bac brun)
ATTACH;FMTTYPE=image/jpeg:https://stcyrille.qc.ca/wp-content/uploads/2023/05/Bac-brun_Municipalite-St-Cyrille-de-Wendover.jpg
END:VEVENT
BEGIN:VEVENT
DTSTART;VALUE=DATE:20240531
DTEND;VALUE=DATE:20240601
DTSTAMP:20260421T075342
CREATED:20231205T201740Z
LAST-MODIFIED:20231205T201740Z
UID:4892-1717113600-1717199999@stcyrille.qc.ca
SUMMARY:Bac brun
DESCRIPTION:
URL:https://stcyrille.qc.ca/calendrier/bac-brun-3/2024-05-31/
CATEGORIES:Organique (Bac brun)
ATTACH;FMTTYPE=image/jpeg:https://stcyrille.qc.ca/wp-content/uploads/2023/05/Bac-brun_Municipalite-St-Cyrille-de-Wendover.jpg
END:VEVENT
END:VCALENDAR