BEGIN:VCALENDAR
VERSION:2.0
PRODID:-//Municipalité de Saint-Cyrille-de-Wendover - ECPv6.15.20//NONSGML v1.0//EN
CALSCALE:GREGORIAN
METHOD:PUBLISH
X-WR-CALNAME:Municipalité de Saint-Cyrille-de-Wendover
X-ORIGINAL-URL:https://stcyrille.qc.ca
X-WR-CALDESC:Événements pour Municipalité de Saint-Cyrille-de-Wendover
REFRESH-INTERVAL;VALUE=DURATION:PT1H
X-Robots-Tag:noindex
X-PUBLISHED-TTL:PT1H
BEGIN:VTIMEZONE
TZID:America/New_York
BEGIN:DAYLIGHT
TZOFFSETFROM:-0500
TZOFFSETTO:-0400
TZNAME:EDT
DTSTART:20240310T070000
END:DAYLIGHT
BEGIN:STANDARD
TZOFFSETFROM:-0400
TZOFFSETTO:-0500
TZNAME:EST
DTSTART:20241103T060000
END:STANDARD
BEGIN:DAYLIGHT
TZOFFSETFROM:-0500
TZOFFSETTO:-0400
TZNAME:EDT
DTSTART:20250309T070000
END:DAYLIGHT
BEGIN:STANDARD
TZOFFSETFROM:-0400
TZOFFSETTO:-0500
TZNAME:EST
DTSTART:20251102T060000
END:STANDARD
BEGIN:DAYLIGHT
TZOFFSETFROM:-0500
TZOFFSETTO:-0400
TZNAME:EDT
DTSTART:20260308T070000
END:DAYLIGHT
BEGIN:STANDARD
TZOFFSETFROM:-0400
TZOFFSETTO:-0500
TZNAME:EST
DTSTART:20261101T060000
END:STANDARD
END:VTIMEZONE
BEGIN:VEVENT
DTSTART;VALUE=DATE:20251128
DTEND;VALUE=DATE:20251129
DTSTAMP:20260422T090717
CREATED:20241113T162053Z
LAST-MODIFIED:20241113T162053Z
UID:6356-1764288000-1764374399@stcyrille.qc.ca
SUMMARY:Bac brun
DESCRIPTION:
URL:https://stcyrille.qc.ca/calendrier/bac-brun-4/2025-11-28/
CATEGORIES:Organique (Bac brun)
ATTACH;FMTTYPE=image/jpeg:https://stcyrille.qc.ca/wp-content/uploads/2023/05/Bac-brun_Municipalite-St-Cyrille-de-Wendover.jpg
END:VEVENT
BEGIN:VEVENT
DTSTART;VALUE=DATE:20251121
DTEND;VALUE=DATE:20251122
DTSTAMP:20260422T090717
CREATED:20241113T162053Z
LAST-MODIFIED:20241113T162053Z
UID:6355-1763683200-1763769599@stcyrille.qc.ca
SUMMARY:Bac brun
DESCRIPTION:
URL:https://stcyrille.qc.ca/calendrier/bac-brun-4/2025-11-21/
CATEGORIES:Organique (Bac brun)
ATTACH;FMTTYPE=image/jpeg:https://stcyrille.qc.ca/wp-content/uploads/2023/05/Bac-brun_Municipalite-St-Cyrille-de-Wendover.jpg
END:VEVENT
BEGIN:VEVENT
DTSTART;VALUE=DATE:20251114
DTEND;VALUE=DATE:20251115
DTSTAMP:20260422T090717
CREATED:20241113T162053Z
LAST-MODIFIED:20241113T162053Z
UID:6353-1763078400-1763164799@stcyrille.qc.ca
SUMMARY:Bac brun
DESCRIPTION:
URL:https://stcyrille.qc.ca/calendrier/bac-brun-4/2025-11-14/
CATEGORIES:Organique (Bac brun)
ATTACH;FMTTYPE=image/jpeg:https://stcyrille.qc.ca/wp-content/uploads/2023/05/Bac-brun_Municipalite-St-Cyrille-de-Wendover.jpg
END:VEVENT
BEGIN:VEVENT
DTSTART;VALUE=DATE:20251107
DTEND;VALUE=DATE:20251108
DTSTAMP:20260422T090717
CREATED:20241113T162053Z
LAST-MODIFIED:20241113T162053Z
UID:6352-1762473600-1762559999@stcyrille.qc.ca
SUMMARY:Bac brun
DESCRIPTION:
URL:https://stcyrille.qc.ca/calendrier/bac-brun-4/2025-11-07/
CATEGORIES:Organique (Bac brun)
ATTACH;FMTTYPE=image/jpeg:https://stcyrille.qc.ca/wp-content/uploads/2023/05/Bac-brun_Municipalite-St-Cyrille-de-Wendover.jpg
END:VEVENT
BEGIN:VEVENT
DTSTART;VALUE=DATE:20251031
DTEND;VALUE=DATE:20251101
DTSTAMP:20260422T090717
CREATED:20241113T162053Z
LAST-MODIFIED:20241113T162053Z
UID:6351-1761868800-1761955199@stcyrille.qc.ca
SUMMARY:Bac brun
DESCRIPTION:
URL:https://stcyrille.qc.ca/calendrier/bac-brun-4/2025-10-31/
CATEGORIES:Organique (Bac brun)
ATTACH;FMTTYPE=image/jpeg:https://stcyrille.qc.ca/wp-content/uploads/2023/05/Bac-brun_Municipalite-St-Cyrille-de-Wendover.jpg
END:VEVENT
BEGIN:VEVENT
DTSTART;VALUE=DATE:20251024
DTEND;VALUE=DATE:20251025
DTSTAMP:20260422T090717
CREATED:20241113T162053Z
LAST-MODIFIED:20241113T162053Z
UID:6350-1761264000-1761350399@stcyrille.qc.ca
SUMMARY:Bac brun
DESCRIPTION:
URL:https://stcyrille.qc.ca/calendrier/bac-brun-4/2025-10-24/
CATEGORIES:Organique (Bac brun)
ATTACH;FMTTYPE=image/jpeg:https://stcyrille.qc.ca/wp-content/uploads/2023/05/Bac-brun_Municipalite-St-Cyrille-de-Wendover.jpg
END:VEVENT
BEGIN:VEVENT
DTSTART;VALUE=DATE:20251017
DTEND;VALUE=DATE:20251018
DTSTAMP:20260422T090717
CREATED:20241113T162053Z
LAST-MODIFIED:20241113T162053Z
UID:6349-1760659200-1760745599@stcyrille.qc.ca
SUMMARY:Bac brun
DESCRIPTION:
URL:https://stcyrille.qc.ca/calendrier/bac-brun-4/2025-10-17/
CATEGORIES:Organique (Bac brun)
ATTACH;FMTTYPE=image/jpeg:https://stcyrille.qc.ca/wp-content/uploads/2023/05/Bac-brun_Municipalite-St-Cyrille-de-Wendover.jpg
END:VEVENT
BEGIN:VEVENT
DTSTART;VALUE=DATE:20251010
DTEND;VALUE=DATE:20251011
DTSTAMP:20260422T090717
CREATED:20241113T162053Z
LAST-MODIFIED:20241113T162053Z
UID:6348-1760054400-1760140799@stcyrille.qc.ca
SUMMARY:Bac brun
DESCRIPTION:
URL:https://stcyrille.qc.ca/calendrier/bac-brun-4/2025-10-10/
CATEGORIES:Organique (Bac brun)
ATTACH;FMTTYPE=image/jpeg:https://stcyrille.qc.ca/wp-content/uploads/2023/05/Bac-brun_Municipalite-St-Cyrille-de-Wendover.jpg
END:VEVENT
BEGIN:VEVENT
DTSTART;VALUE=DATE:20251003
DTEND;VALUE=DATE:20251004
DTSTAMP:20260422T090717
CREATED:20241113T162053Z
LAST-MODIFIED:20241113T162053Z
UID:6347-1759449600-1759535999@stcyrille.qc.ca
SUMMARY:Bac brun
DESCRIPTION:
URL:https://stcyrille.qc.ca/calendrier/bac-brun-4/2025-10-03/
CATEGORIES:Organique (Bac brun)
ATTACH;FMTTYPE=image/jpeg:https://stcyrille.qc.ca/wp-content/uploads/2023/05/Bac-brun_Municipalite-St-Cyrille-de-Wendover.jpg
END:VEVENT
BEGIN:VEVENT
DTSTART;VALUE=DATE:20250926
DTEND;VALUE=DATE:20250927
DTSTAMP:20260422T090717
CREATED:20241113T162053Z
LAST-MODIFIED:20241113T162053Z
UID:6346-1758844800-1758931199@stcyrille.qc.ca
SUMMARY:Bac brun
DESCRIPTION:
URL:https://stcyrille.qc.ca/calendrier/bac-brun-4/2025-09-26/
CATEGORIES:Organique (Bac brun)
ATTACH;FMTTYPE=image/jpeg:https://stcyrille.qc.ca/wp-content/uploads/2023/05/Bac-brun_Municipalite-St-Cyrille-de-Wendover.jpg
END:VEVENT
BEGIN:VEVENT
DTSTART;VALUE=DATE:20250919
DTEND;VALUE=DATE:20250920
DTSTAMP:20260422T090717
CREATED:20241113T162053Z
LAST-MODIFIED:20241113T162053Z
UID:6345-1758240000-1758326399@stcyrille.qc.ca
SUMMARY:Bac brun
DESCRIPTION:
URL:https://stcyrille.qc.ca/calendrier/bac-brun-4/2025-09-19/
CATEGORIES:Organique (Bac brun)
ATTACH;FMTTYPE=image/jpeg:https://stcyrille.qc.ca/wp-content/uploads/2023/05/Bac-brun_Municipalite-St-Cyrille-de-Wendover.jpg
END:VEVENT
BEGIN:VEVENT
DTSTART;VALUE=DATE:20250912
DTEND;VALUE=DATE:20250913
DTSTAMP:20260422T090717
CREATED:20241113T162053Z
LAST-MODIFIED:20241113T162053Z
UID:6344-1757635200-1757721599@stcyrille.qc.ca
SUMMARY:Bac brun
DESCRIPTION:
URL:https://stcyrille.qc.ca/calendrier/bac-brun-4/2025-09-12/
CATEGORIES:Organique (Bac brun)
ATTACH;FMTTYPE=image/jpeg:https://stcyrille.qc.ca/wp-content/uploads/2023/05/Bac-brun_Municipalite-St-Cyrille-de-Wendover.jpg
END:VEVENT
BEGIN:VEVENT
DTSTART;VALUE=DATE:20250905
DTEND;VALUE=DATE:20250906
DTSTAMP:20260422T090717
CREATED:20241113T162053Z
LAST-MODIFIED:20241113T162053Z
UID:6343-1757030400-1757116799@stcyrille.qc.ca
SUMMARY:Bac brun
DESCRIPTION:
URL:https://stcyrille.qc.ca/calendrier/bac-brun-4/2025-09-05/
CATEGORIES:Organique (Bac brun)
ATTACH;FMTTYPE=image/jpeg:https://stcyrille.qc.ca/wp-content/uploads/2023/05/Bac-brun_Municipalite-St-Cyrille-de-Wendover.jpg
END:VEVENT
BEGIN:VEVENT
DTSTART;VALUE=DATE:20250829
DTEND;VALUE=DATE:20250830
DTSTAMP:20260422T090717
CREATED:20241113T162053Z
LAST-MODIFIED:20241113T162053Z
UID:6342-1756425600-1756511999@stcyrille.qc.ca
SUMMARY:Bac brun
DESCRIPTION:
URL:https://stcyrille.qc.ca/calendrier/bac-brun-4/2025-08-29/
CATEGORIES:Organique (Bac brun)
ATTACH;FMTTYPE=image/jpeg:https://stcyrille.qc.ca/wp-content/uploads/2023/05/Bac-brun_Municipalite-St-Cyrille-de-Wendover.jpg
END:VEVENT
BEGIN:VEVENT
DTSTART;VALUE=DATE:20250822
DTEND;VALUE=DATE:20250823
DTSTAMP:20260422T090717
CREATED:20241113T162053Z
LAST-MODIFIED:20241113T162053Z
UID:6341-1755820800-1755907199@stcyrille.qc.ca
SUMMARY:Bac brun
DESCRIPTION:
URL:https://stcyrille.qc.ca/calendrier/bac-brun-4/2025-08-22/
CATEGORIES:Organique (Bac brun)
ATTACH;FMTTYPE=image/jpeg:https://stcyrille.qc.ca/wp-content/uploads/2023/05/Bac-brun_Municipalite-St-Cyrille-de-Wendover.jpg
END:VEVENT
BEGIN:VEVENT
DTSTART;VALUE=DATE:20250815
DTEND;VALUE=DATE:20250816
DTSTAMP:20260422T090717
CREATED:20241113T162053Z
LAST-MODIFIED:20241113T162053Z
UID:6340-1755216000-1755302399@stcyrille.qc.ca
SUMMARY:Bac brun
DESCRIPTION:
URL:https://stcyrille.qc.ca/calendrier/bac-brun-4/2025-08-15/
CATEGORIES:Organique (Bac brun)
ATTACH;FMTTYPE=image/jpeg:https://stcyrille.qc.ca/wp-content/uploads/2023/05/Bac-brun_Municipalite-St-Cyrille-de-Wendover.jpg
END:VEVENT
BEGIN:VEVENT
DTSTART;VALUE=DATE:20250808
DTEND;VALUE=DATE:20250809
DTSTAMP:20260422T090717
CREATED:20241113T162053Z
LAST-MODIFIED:20241113T162053Z
UID:6338-1754611200-1754697599@stcyrille.qc.ca
SUMMARY:Bac brun
DESCRIPTION:
URL:https://stcyrille.qc.ca/calendrier/bac-brun-4/2025-08-08/
CATEGORIES:Organique (Bac brun)
ATTACH;FMTTYPE=image/jpeg:https://stcyrille.qc.ca/wp-content/uploads/2023/05/Bac-brun_Municipalite-St-Cyrille-de-Wendover.jpg
END:VEVENT
BEGIN:VEVENT
DTSTART;VALUE=DATE:20250801
DTEND;VALUE=DATE:20250802
DTSTAMP:20260422T090717
CREATED:20241113T162053Z
LAST-MODIFIED:20241113T162053Z
UID:6337-1754006400-1754092799@stcyrille.qc.ca
SUMMARY:Bac brun
DESCRIPTION:
URL:https://stcyrille.qc.ca/calendrier/bac-brun-4/2025-08-01/
CATEGORIES:Organique (Bac brun)
ATTACH;FMTTYPE=image/jpeg:https://stcyrille.qc.ca/wp-content/uploads/2023/05/Bac-brun_Municipalite-St-Cyrille-de-Wendover.jpg
END:VEVENT
BEGIN:VEVENT
DTSTART;VALUE=DATE:20250725
DTEND;VALUE=DATE:20250726
DTSTAMP:20260422T090717
CREATED:20241113T162053Z
LAST-MODIFIED:20241113T162053Z
UID:6336-1753401600-1753487999@stcyrille.qc.ca
SUMMARY:Bac brun
DESCRIPTION:
URL:https://stcyrille.qc.ca/calendrier/bac-brun-4/2025-07-25/
CATEGORIES:Organique (Bac brun)
ATTACH;FMTTYPE=image/jpeg:https://stcyrille.qc.ca/wp-content/uploads/2023/05/Bac-brun_Municipalite-St-Cyrille-de-Wendover.jpg
END:VEVENT
BEGIN:VEVENT
DTSTART;VALUE=DATE:20250718
DTEND;VALUE=DATE:20250719
DTSTAMP:20260422T090717
CREATED:20241113T162053Z
LAST-MODIFIED:20241113T162053Z
UID:6335-1752796800-1752883199@stcyrille.qc.ca
SUMMARY:Bac brun
DESCRIPTION:
URL:https://stcyrille.qc.ca/calendrier/bac-brun-4/2025-07-18/
CATEGORIES:Organique (Bac brun)
ATTACH;FMTTYPE=image/jpeg:https://stcyrille.qc.ca/wp-content/uploads/2023/05/Bac-brun_Municipalite-St-Cyrille-de-Wendover.jpg
END:VEVENT
BEGIN:VEVENT
DTSTART;VALUE=DATE:20250711
DTEND;VALUE=DATE:20250712
DTSTAMP:20260422T090717
CREATED:20241113T162053Z
LAST-MODIFIED:20241113T162053Z
UID:6334-1752192000-1752278399@stcyrille.qc.ca
SUMMARY:Bac brun
DESCRIPTION:
URL:https://stcyrille.qc.ca/calendrier/bac-brun-4/2025-07-11/
CATEGORIES:Organique (Bac brun)
ATTACH;FMTTYPE=image/jpeg:https://stcyrille.qc.ca/wp-content/uploads/2023/05/Bac-brun_Municipalite-St-Cyrille-de-Wendover.jpg
END:VEVENT
BEGIN:VEVENT
DTSTART;VALUE=DATE:20250704
DTEND;VALUE=DATE:20250705
DTSTAMP:20260422T090717
CREATED:20241113T162053Z
LAST-MODIFIED:20241113T162053Z
UID:6333-1751587200-1751673599@stcyrille.qc.ca
SUMMARY:Bac brun
DESCRIPTION:
URL:https://stcyrille.qc.ca/calendrier/bac-brun-4/2025-07-04/
CATEGORIES:Organique (Bac brun)
ATTACH;FMTTYPE=image/jpeg:https://stcyrille.qc.ca/wp-content/uploads/2023/05/Bac-brun_Municipalite-St-Cyrille-de-Wendover.jpg
END:VEVENT
BEGIN:VEVENT
DTSTART;VALUE=DATE:20250627
DTEND;VALUE=DATE:20250628
DTSTAMP:20260422T090717
CREATED:20241113T162053Z
LAST-MODIFIED:20241113T162053Z
UID:6332-1750982400-1751068799@stcyrille.qc.ca
SUMMARY:Bac brun
DESCRIPTION:
URL:https://stcyrille.qc.ca/calendrier/bac-brun-4/2025-06-27/
CATEGORIES:Organique (Bac brun)
ATTACH;FMTTYPE=image/jpeg:https://stcyrille.qc.ca/wp-content/uploads/2023/05/Bac-brun_Municipalite-St-Cyrille-de-Wendover.jpg
END:VEVENT
BEGIN:VEVENT
DTSTART;VALUE=DATE:20250620
DTEND;VALUE=DATE:20250621
DTSTAMP:20260422T090717
CREATED:20241113T162053Z
LAST-MODIFIED:20241113T162053Z
UID:6331-1750377600-1750463999@stcyrille.qc.ca
SUMMARY:Bac brun
DESCRIPTION:
URL:https://stcyrille.qc.ca/calendrier/bac-brun-4/2025-06-20/
CATEGORIES:Organique (Bac brun)
ATTACH;FMTTYPE=image/jpeg:https://stcyrille.qc.ca/wp-content/uploads/2023/05/Bac-brun_Municipalite-St-Cyrille-de-Wendover.jpg
END:VEVENT
BEGIN:VEVENT
DTSTART;VALUE=DATE:20250613
DTEND;VALUE=DATE:20250614
DTSTAMP:20260422T090717
CREATED:20241113T162053Z
LAST-MODIFIED:20241113T162053Z
UID:6330-1749772800-1749859199@stcyrille.qc.ca
SUMMARY:Bac brun
DESCRIPTION:
URL:https://stcyrille.qc.ca/calendrier/bac-brun-4/2025-06-13/
CATEGORIES:Organique (Bac brun)
ATTACH;FMTTYPE=image/jpeg:https://stcyrille.qc.ca/wp-content/uploads/2023/05/Bac-brun_Municipalite-St-Cyrille-de-Wendover.jpg
END:VEVENT
BEGIN:VEVENT
DTSTART;VALUE=DATE:20250606
DTEND;VALUE=DATE:20250607
DTSTAMP:20260422T090717
CREATED:20241113T162053Z
LAST-MODIFIED:20241113T162053Z
UID:6329-1749168000-1749254399@stcyrille.qc.ca
SUMMARY:Bac brun
DESCRIPTION:
URL:https://stcyrille.qc.ca/calendrier/bac-brun-4/2025-06-06/
CATEGORIES:Organique (Bac brun)
ATTACH;FMTTYPE=image/jpeg:https://stcyrille.qc.ca/wp-content/uploads/2023/05/Bac-brun_Municipalite-St-Cyrille-de-Wendover.jpg
END:VEVENT
BEGIN:VEVENT
DTSTART;VALUE=DATE:20250530
DTEND;VALUE=DATE:20250531
DTSTAMP:20260422T090717
CREATED:20241113T162053Z
LAST-MODIFIED:20241113T162053Z
UID:6328-1748563200-1748649599@stcyrille.qc.ca
SUMMARY:Bac brun
DESCRIPTION:
URL:https://stcyrille.qc.ca/calendrier/bac-brun-4/2025-05-30/
CATEGORIES:Organique (Bac brun)
ATTACH;FMTTYPE=image/jpeg:https://stcyrille.qc.ca/wp-content/uploads/2023/05/Bac-brun_Municipalite-St-Cyrille-de-Wendover.jpg
END:VEVENT
END:VCALENDAR