BEGIN:VCALENDAR
VERSION:2.0
PRODID:-//Municipalité de Saint-Cyrille-de-Wendover - ECPv6.15.17//NONSGML v1.0//EN
CALSCALE:GREGORIAN
METHOD:PUBLISH
X-WR-CALNAME:Municipalité de Saint-Cyrille-de-Wendover
X-ORIGINAL-URL:https://stcyrille.qc.ca
X-WR-CALDESC:Événements pour Municipalité de Saint-Cyrille-de-Wendover
REFRESH-INTERVAL;VALUE=DURATION:PT1H
X-Robots-Tag:noindex
X-PUBLISHED-TTL:PT1H
BEGIN:VTIMEZONE
TZID:America/New_York
BEGIN:DAYLIGHT
TZOFFSETFROM:-0500
TZOFFSETTO:-0400
TZNAME:EDT
DTSTART:20240310T070000
END:DAYLIGHT
BEGIN:STANDARD
TZOFFSETFROM:-0400
TZOFFSETTO:-0500
TZNAME:EST
DTSTART:20241103T060000
END:STANDARD
BEGIN:DAYLIGHT
TZOFFSETFROM:-0500
TZOFFSETTO:-0400
TZNAME:EDT
DTSTART:20250309T070000
END:DAYLIGHT
BEGIN:STANDARD
TZOFFSETFROM:-0400
TZOFFSETTO:-0500
TZNAME:EST
DTSTART:20251102T060000
END:STANDARD
BEGIN:DAYLIGHT
TZOFFSETFROM:-0500
TZOFFSETTO:-0400
TZNAME:EDT
DTSTART:20260308T070000
END:DAYLIGHT
BEGIN:STANDARD
TZOFFSETFROM:-0400
TZOFFSETTO:-0500
TZNAME:EST
DTSTART:20261101T060000
END:STANDARD
END:VTIMEZONE
BEGIN:VEVENT
DTSTART;VALUE=DATE:20250516
DTEND;VALUE=DATE:20250517
DTSTAMP:20260420T235115
CREATED:20241113T162209Z
LAST-MODIFIED:20241113T162209Z
UID:6360-1747353600-1747439999@stcyrille.qc.ca
SUMMARY:Bac brun
DESCRIPTION:
URL:https://stcyrille.qc.ca/calendrier/bac-brun-5/2025-05-16/
CATEGORIES:Organique (Bac brun)
ATTACH;FMTTYPE=image/jpeg:https://stcyrille.qc.ca/wp-content/uploads/2023/05/Bac-brun_Municipalite-St-Cyrille-de-Wendover.jpg
END:VEVENT
BEGIN:VEVENT
DTSTART;VALUE=DATE:20250502
DTEND;VALUE=DATE:20250503
DTSTAMP:20260420T235115
CREATED:20241113T162209Z
LAST-MODIFIED:20241113T162209Z
UID:6359-1746144000-1746230399@stcyrille.qc.ca
SUMMARY:Bac brun
DESCRIPTION:
URL:https://stcyrille.qc.ca/calendrier/bac-brun-5/2025-05-02/
CATEGORIES:Organique (Bac brun)
ATTACH;FMTTYPE=image/jpeg:https://stcyrille.qc.ca/wp-content/uploads/2023/05/Bac-brun_Municipalite-St-Cyrille-de-Wendover.jpg
END:VEVENT
BEGIN:VEVENT
DTSTART;VALUE=DATE:20250418
DTEND;VALUE=DATE:20250419
DTSTAMP:20260420T235115
CREATED:20241113T162209Z
LAST-MODIFIED:20241113T162209Z
UID:6358-1744934400-1745020799@stcyrille.qc.ca
SUMMARY:Bac brun
DESCRIPTION:
URL:https://stcyrille.qc.ca/calendrier/bac-brun-5/2025-04-18/
CATEGORIES:Organique (Bac brun)
ATTACH;FMTTYPE=image/jpeg:https://stcyrille.qc.ca/wp-content/uploads/2023/05/Bac-brun_Municipalite-St-Cyrille-de-Wendover.jpg
END:VEVENT
BEGIN:VEVENT
DTSTART;VALUE=DATE:20250404
DTEND;VALUE=DATE:20250405
DTSTAMP:20260420T235115
CREATED:20241113T162209Z
LAST-MODIFIED:20241113T162209Z
UID:6354-1743724800-1743811199@stcyrille.qc.ca
SUMMARY:Bac brun
DESCRIPTION:
URL:https://stcyrille.qc.ca/calendrier/bac-brun-5/2025-04-04/
CATEGORIES:Organique (Bac brun)
ATTACH;FMTTYPE=image/jpeg:https://stcyrille.qc.ca/wp-content/uploads/2023/05/Bac-brun_Municipalite-St-Cyrille-de-Wendover.jpg
END:VEVENT
END:VCALENDAR