BEGIN:VCALENDAR
VERSION:2.0
PRODID:-//Municipalité de Saint-Cyrille-de-Wendover - ECPv6.15.20//NONSGML v1.0//EN
CALSCALE:GREGORIAN
METHOD:PUBLISH
X-ORIGINAL-URL:https://stcyrille.qc.ca
X-WR-CALDESC:Événements pour Municipalité de Saint-Cyrille-de-Wendover
REFRESH-INTERVAL;VALUE=DURATION:PT1H
X-Robots-Tag:noindex
X-PUBLISHED-TTL:PT1H
BEGIN:VTIMEZONE
TZID:America/New_York
BEGIN:DAYLIGHT
TZOFFSETFROM:-0500
TZOFFSETTO:-0400
TZNAME:EDT
DTSTART:20240310T070000
END:DAYLIGHT
BEGIN:STANDARD
TZOFFSETFROM:-0400
TZOFFSETTO:-0500
TZNAME:EST
DTSTART:20241103T060000
END:STANDARD
BEGIN:DAYLIGHT
TZOFFSETFROM:-0500
TZOFFSETTO:-0400
TZNAME:EDT
DTSTART:20250309T070000
END:DAYLIGHT
BEGIN:STANDARD
TZOFFSETFROM:-0400
TZOFFSETTO:-0500
TZNAME:EST
DTSTART:20251102T060000
END:STANDARD
BEGIN:DAYLIGHT
TZOFFSETFROM:-0500
TZOFFSETTO:-0400
TZNAME:EDT
DTSTART:20260308T070000
END:DAYLIGHT
BEGIN:STANDARD
TZOFFSETFROM:-0400
TZOFFSETTO:-0500
TZNAME:EST
DTSTART:20261101T060000
END:STANDARD
END:VTIMEZONE
BEGIN:VEVENT
DTSTART;VALUE=DATE:20251229
DTEND;VALUE=DATE:20251230
DTSTAMP:20260422T091430
CREATED:20241113T160132Z
LAST-MODIFIED:20241113T160407Z
UID:6274-1766966400-1767052799@stcyrille.qc.ca
SUMMARY:Bac gris
DESCRIPTION:
URL:https://stcyrille.qc.ca/calendrier/bac-gris-3/2025-12-29/
CATEGORIES:Ordures (Bac gris)
ATTACH;FMTTYPE=image/jpeg:https://stcyrille.qc.ca/wp-content/uploads/2023/05/Bac-gris_Municipalite-St-Cyrille-de-Wendover.jpg
END:VEVENT
BEGIN:VEVENT
DTSTART;VALUE=DATE:20251215
DTEND;VALUE=DATE:20251216
DTSTAMP:20260422T091430
CREATED:20241113T160132Z
LAST-MODIFIED:20241113T160406Z
UID:6273-1765756800-1765843199@stcyrille.qc.ca
SUMMARY:Bac gris
DESCRIPTION:
URL:https://stcyrille.qc.ca/calendrier/bac-gris-3/2025-12-15/
CATEGORIES:Ordures (Bac gris)
ATTACH;FMTTYPE=image/jpeg:https://stcyrille.qc.ca/wp-content/uploads/2023/05/Bac-gris_Municipalite-St-Cyrille-de-Wendover.jpg
END:VEVENT
BEGIN:VEVENT
DTSTART;VALUE=DATE:20251201
DTEND;VALUE=DATE:20251202
DTSTAMP:20260422T091430
CREATED:20241113T160132Z
LAST-MODIFIED:20241113T160406Z
UID:6272-1764547200-1764633599@stcyrille.qc.ca
SUMMARY:Bac gris
DESCRIPTION:
URL:https://stcyrille.qc.ca/calendrier/bac-gris-3/2025-12-01/
CATEGORIES:Ordures (Bac gris)
ATTACH;FMTTYPE=image/jpeg:https://stcyrille.qc.ca/wp-content/uploads/2023/05/Bac-gris_Municipalite-St-Cyrille-de-Wendover.jpg
END:VEVENT
BEGIN:VEVENT
DTSTART;VALUE=DATE:20251103
DTEND;VALUE=DATE:20251104
DTSTAMP:20260422T091430
CREATED:20241113T160132Z
LAST-MODIFIED:20241113T160405Z
UID:6271-1762128000-1762214399@stcyrille.qc.ca
SUMMARY:Bac gris
DESCRIPTION:
URL:https://stcyrille.qc.ca/calendrier/bac-gris-3/2025-11-03/
CATEGORIES:Ordures (Bac gris)
ATTACH;FMTTYPE=image/jpeg:https://stcyrille.qc.ca/wp-content/uploads/2023/05/Bac-gris_Municipalite-St-Cyrille-de-Wendover.jpg
END:VEVENT
BEGIN:VEVENT
DTSTART;VALUE=DATE:20251020
DTEND;VALUE=DATE:20251021
DTSTAMP:20260422T091430
CREATED:20241113T160132Z
LAST-MODIFIED:20241113T160405Z
UID:6270-1760918400-1761004799@stcyrille.qc.ca
SUMMARY:Bac gris
DESCRIPTION:
URL:https://stcyrille.qc.ca/calendrier/bac-gris-3/2025-10-20/
CATEGORIES:Ordures (Bac gris)
ATTACH;FMTTYPE=image/jpeg:https://stcyrille.qc.ca/wp-content/uploads/2023/05/Bac-gris_Municipalite-St-Cyrille-de-Wendover.jpg
END:VEVENT
BEGIN:VEVENT
DTSTART;VALUE=DATE:20250922
DTEND;VALUE=DATE:20250923
DTSTAMP:20260422T091430
CREATED:20241113T160132Z
LAST-MODIFIED:20241113T160405Z
UID:6269-1758499200-1758585599@stcyrille.qc.ca
SUMMARY:Bac gris
DESCRIPTION:
URL:https://stcyrille.qc.ca/calendrier/bac-gris-3/2025-09-22/
CATEGORIES:Ordures (Bac gris)
ATTACH;FMTTYPE=image/jpeg:https://stcyrille.qc.ca/wp-content/uploads/2023/05/Bac-gris_Municipalite-St-Cyrille-de-Wendover.jpg
END:VEVENT
BEGIN:VEVENT
DTSTART;VALUE=DATE:20250908
DTEND;VALUE=DATE:20250909
DTSTAMP:20260422T091430
CREATED:20241113T160132Z
LAST-MODIFIED:20241113T160405Z
UID:6268-1757289600-1757375999@stcyrille.qc.ca
SUMMARY:Bac gris
DESCRIPTION:
URL:https://stcyrille.qc.ca/calendrier/bac-gris-3/2025-09-08/
CATEGORIES:Ordures (Bac gris)
ATTACH;FMTTYPE=image/jpeg:https://stcyrille.qc.ca/wp-content/uploads/2023/05/Bac-gris_Municipalite-St-Cyrille-de-Wendover.jpg
END:VEVENT
BEGIN:VEVENT
DTSTART;VALUE=DATE:20250825
DTEND;VALUE=DATE:20250826
DTSTAMP:20260422T091430
CREATED:20241113T160132Z
LAST-MODIFIED:20241113T160404Z
UID:6267-1756080000-1756166399@stcyrille.qc.ca
SUMMARY:Bac gris
DESCRIPTION:
URL:https://stcyrille.qc.ca/calendrier/bac-gris-3/2025-08-25/
CATEGORIES:Ordures (Bac gris)
ATTACH;FMTTYPE=image/jpeg:https://stcyrille.qc.ca/wp-content/uploads/2023/05/Bac-gris_Municipalite-St-Cyrille-de-Wendover.jpg
END:VEVENT
BEGIN:VEVENT
DTSTART;VALUE=DATE:20250811
DTEND;VALUE=DATE:20250812
DTSTAMP:20260422T091430
CREATED:20241113T160132Z
LAST-MODIFIED:20241113T160404Z
UID:6266-1754870400-1754956799@stcyrille.qc.ca
SUMMARY:Bac gris
DESCRIPTION:
URL:https://stcyrille.qc.ca/calendrier/bac-gris-3/2025-08-11/
CATEGORIES:Ordures (Bac gris)
ATTACH;FMTTYPE=image/jpeg:https://stcyrille.qc.ca/wp-content/uploads/2023/05/Bac-gris_Municipalite-St-Cyrille-de-Wendover.jpg
END:VEVENT
BEGIN:VEVENT
DTSTART;VALUE=DATE:20250728
DTEND;VALUE=DATE:20250729
DTSTAMP:20260422T091430
CREATED:20241113T160132Z
LAST-MODIFIED:20241113T160404Z
UID:6265-1753660800-1753747199@stcyrille.qc.ca
SUMMARY:Bac gris
DESCRIPTION:
URL:https://stcyrille.qc.ca/calendrier/bac-gris-3/2025-07-28/
CATEGORIES:Ordures (Bac gris)
ATTACH;FMTTYPE=image/jpeg:https://stcyrille.qc.ca/wp-content/uploads/2023/05/Bac-gris_Municipalite-St-Cyrille-de-Wendover.jpg
END:VEVENT
BEGIN:VEVENT
DTSTART;VALUE=DATE:20250630
DTEND;VALUE=DATE:20250701
DTSTAMP:20260422T091430
CREATED:20241113T160132Z
LAST-MODIFIED:20241113T160404Z
UID:6264-1751241600-1751327999@stcyrille.qc.ca
SUMMARY:Bac gris
DESCRIPTION:
URL:https://stcyrille.qc.ca/calendrier/bac-gris-3/2025-06-30/
CATEGORIES:Ordures (Bac gris)
ATTACH;FMTTYPE=image/jpeg:https://stcyrille.qc.ca/wp-content/uploads/2023/05/Bac-gris_Municipalite-St-Cyrille-de-Wendover.jpg
END:VEVENT
BEGIN:VEVENT
DTSTART;VALUE=DATE:20250616
DTEND;VALUE=DATE:20250617
DTSTAMP:20260422T091430
CREATED:20241113T160132Z
LAST-MODIFIED:20241113T160401Z
UID:6263-1750032000-1750118399@stcyrille.qc.ca
SUMMARY:Bac gris
DESCRIPTION:
URL:https://stcyrille.qc.ca/calendrier/bac-gris-3/2025-06-16/
CATEGORIES:Ordures (Bac gris)
ATTACH;FMTTYPE=image/jpeg:https://stcyrille.qc.ca/wp-content/uploads/2023/05/Bac-gris_Municipalite-St-Cyrille-de-Wendover.jpg
END:VEVENT
BEGIN:VEVENT
DTSTART;VALUE=DATE:20250602
DTEND;VALUE=DATE:20250603
DTSTAMP:20260422T091430
CREATED:20241113T160132Z
LAST-MODIFIED:20241113T160400Z
UID:6262-1748822400-1748908799@stcyrille.qc.ca
SUMMARY:Bac gris
DESCRIPTION:
URL:https://stcyrille.qc.ca/calendrier/bac-gris-3/2025-06-02/
CATEGORIES:Ordures (Bac gris)
ATTACH;FMTTYPE=image/jpeg:https://stcyrille.qc.ca/wp-content/uploads/2023/05/Bac-gris_Municipalite-St-Cyrille-de-Wendover.jpg
END:VEVENT
BEGIN:VEVENT
DTSTART;VALUE=DATE:20250519
DTEND;VALUE=DATE:20250520
DTSTAMP:20260422T091430
CREATED:20241113T160132Z
LAST-MODIFIED:20241113T160400Z
UID:6261-1747612800-1747699199@stcyrille.qc.ca
SUMMARY:Bac gris
DESCRIPTION:
URL:https://stcyrille.qc.ca/calendrier/bac-gris-3/2025-05-19/
CATEGORIES:Ordures (Bac gris)
ATTACH;FMTTYPE=image/jpeg:https://stcyrille.qc.ca/wp-content/uploads/2023/05/Bac-gris_Municipalite-St-Cyrille-de-Wendover.jpg
END:VEVENT
BEGIN:VEVENT
DTSTART;VALUE=DATE:20250421
DTEND;VALUE=DATE:20250422
DTSTAMP:20260422T091430
CREATED:20241113T160132Z
LAST-MODIFIED:20241113T160400Z
UID:6260-1745193600-1745279999@stcyrille.qc.ca
SUMMARY:Bac gris
DESCRIPTION:
URL:https://stcyrille.qc.ca/calendrier/bac-gris-3/2025-04-21/
CATEGORIES:Ordures (Bac gris)
ATTACH;FMTTYPE=image/jpeg:https://stcyrille.qc.ca/wp-content/uploads/2023/05/Bac-gris_Municipalite-St-Cyrille-de-Wendover.jpg
END:VEVENT
BEGIN:VEVENT
DTSTART;VALUE=DATE:20250407
DTEND;VALUE=DATE:20250408
DTSTAMP:20260422T091430
CREATED:20241113T160132Z
LAST-MODIFIED:20241113T160400Z
UID:6259-1743984000-1744070399@stcyrille.qc.ca
SUMMARY:Bac gris
DESCRIPTION:
URL:https://stcyrille.qc.ca/calendrier/bac-gris-3/2025-04-07/
CATEGORIES:Ordures (Bac gris)
ATTACH;FMTTYPE=image/jpeg:https://stcyrille.qc.ca/wp-content/uploads/2023/05/Bac-gris_Municipalite-St-Cyrille-de-Wendover.jpg
END:VEVENT
BEGIN:VEVENT
DTSTART;VALUE=DATE:20250324
DTEND;VALUE=DATE:20250325
DTSTAMP:20260422T091430
CREATED:20241113T160132Z
LAST-MODIFIED:20241113T160400Z
UID:6258-1742774400-1742860799@stcyrille.qc.ca
SUMMARY:Bac gris
DESCRIPTION:
URL:https://stcyrille.qc.ca/calendrier/bac-gris-3/2025-03-24/
CATEGORIES:Ordures (Bac gris)
ATTACH;FMTTYPE=image/jpeg:https://stcyrille.qc.ca/wp-content/uploads/2023/05/Bac-gris_Municipalite-St-Cyrille-de-Wendover.jpg
END:VEVENT
BEGIN:VEVENT
DTSTART;VALUE=DATE:20250310
DTEND;VALUE=DATE:20250311
DTSTAMP:20260422T091430
CREATED:20241113T160132Z
LAST-MODIFIED:20241113T160359Z
UID:6257-1741564800-1741651199@stcyrille.qc.ca
SUMMARY:Bac gris
DESCRIPTION:
URL:https://stcyrille.qc.ca/calendrier/bac-gris-3/2025-03-10/
CATEGORIES:Ordures (Bac gris)
ATTACH;FMTTYPE=image/jpeg:https://stcyrille.qc.ca/wp-content/uploads/2023/05/Bac-gris_Municipalite-St-Cyrille-de-Wendover.jpg
END:VEVENT
BEGIN:VEVENT
DTSTART;VALUE=DATE:20250224
DTEND;VALUE=DATE:20250225
DTSTAMP:20260422T091430
CREATED:20241113T160132Z
LAST-MODIFIED:20241113T160359Z
UID:6256-1740355200-1740441599@stcyrille.qc.ca
SUMMARY:Bac gris
DESCRIPTION:
URL:https://stcyrille.qc.ca/calendrier/bac-gris-3/2025-02-24/
CATEGORIES:Ordures (Bac gris)
ATTACH;FMTTYPE=image/jpeg:https://stcyrille.qc.ca/wp-content/uploads/2023/05/Bac-gris_Municipalite-St-Cyrille-de-Wendover.jpg
END:VEVENT
BEGIN:VEVENT
DTSTART;VALUE=DATE:20250210
DTEND;VALUE=DATE:20250211
DTSTAMP:20260422T091430
CREATED:20241113T160132Z
LAST-MODIFIED:20241113T160359Z
UID:6255-1739145600-1739231999@stcyrille.qc.ca
SUMMARY:Bac gris
DESCRIPTION:
URL:https://stcyrille.qc.ca/calendrier/bac-gris-3/2025-02-10/
CATEGORIES:Ordures (Bac gris)
ATTACH;FMTTYPE=image/jpeg:https://stcyrille.qc.ca/wp-content/uploads/2023/05/Bac-gris_Municipalite-St-Cyrille-de-Wendover.jpg
END:VEVENT
BEGIN:VEVENT
DTSTART;VALUE=DATE:20250127
DTEND;VALUE=DATE:20250128
DTSTAMP:20260422T091430
CREATED:20241113T160132Z
LAST-MODIFIED:20241113T160358Z
UID:6254-1737936000-1738022399@stcyrille.qc.ca
SUMMARY:Bac gris
DESCRIPTION:
URL:https://stcyrille.qc.ca/calendrier/bac-gris-3/2025-01-27/
CATEGORIES:Ordures (Bac gris)
ATTACH;FMTTYPE=image/jpeg:https://stcyrille.qc.ca/wp-content/uploads/2023/05/Bac-gris_Municipalite-St-Cyrille-de-Wendover.jpg
END:VEVENT
BEGIN:VEVENT
DTSTART;VALUE=DATE:20250113
DTEND;VALUE=DATE:20250114
DTSTAMP:20260422T091430
CREATED:20241113T160132Z
LAST-MODIFIED:20241113T160358Z
UID:6252-1736726400-1736812799@stcyrille.qc.ca
SUMMARY:Bac gris
DESCRIPTION:
URL:https://stcyrille.qc.ca/calendrier/bac-gris-3/2025-01-13/
CATEGORIES:Ordures (Bac gris)
ATTACH;FMTTYPE=image/jpeg:https://stcyrille.qc.ca/wp-content/uploads/2023/05/Bac-gris_Municipalite-St-Cyrille-de-Wendover.jpg
END:VEVENT
END:VCALENDAR