BEGIN:VCALENDAR
VERSION:2.0
PRODID:-//Municipalité de Saint-Cyrille-de-Wendover - ECPv6.15.17//NONSGML v1.0//EN
CALSCALE:GREGORIAN
METHOD:PUBLISH
X-ORIGINAL-URL:https://stcyrille.qc.ca
X-WR-CALDESC:Événements pour Municipalité de Saint-Cyrille-de-Wendover
REFRESH-INTERVAL;VALUE=DURATION:PT1H
X-Robots-Tag:noindex
X-PUBLISHED-TTL:PT1H
BEGIN:VTIMEZONE
TZID:America/New_York
BEGIN:DAYLIGHT
TZOFFSETFROM:-0500
TZOFFSETTO:-0400
TZNAME:EDT
DTSTART:20230312T070000
END:DAYLIGHT
BEGIN:STANDARD
TZOFFSETFROM:-0400
TZOFFSETTO:-0500
TZNAME:EST
DTSTART:20231105T060000
END:STANDARD
BEGIN:DAYLIGHT
TZOFFSETFROM:-0500
TZOFFSETTO:-0400
TZNAME:EDT
DTSTART:20240310T070000
END:DAYLIGHT
BEGIN:STANDARD
TZOFFSETFROM:-0400
TZOFFSETTO:-0500
TZNAME:EST
DTSTART:20241103T060000
END:STANDARD
BEGIN:DAYLIGHT
TZOFFSETFROM:-0500
TZOFFSETTO:-0400
TZNAME:EDT
DTSTART:20250309T070000
END:DAYLIGHT
BEGIN:STANDARD
TZOFFSETFROM:-0400
TZOFFSETTO:-0500
TZNAME:EST
DTSTART:20251102T060000
END:STANDARD
BEGIN:DAYLIGHT
TZOFFSETFROM:-0500
TZOFFSETTO:-0400
TZNAME:EDT
DTSTART:20260308T070000
END:DAYLIGHT
BEGIN:STANDARD
TZOFFSETFROM:-0400
TZOFFSETTO:-0500
TZNAME:EST
DTSTART:20261101T060000
END:STANDARD
END:VTIMEZONE
BEGIN:VEVENT
DTSTART;VALUE=DATE:20250106
DTEND;VALUE=DATE:20250107
DTSTAMP:20260421T062136
CREATED:20241113T050026Z
LAST-MODIFIED:20241113T164209Z
UID:6399-1736121600-1736207999@stcyrille.qc.ca
SUMMARY:Bibliothèque municipale fermée
DESCRIPTION:
URL:https://stcyrille.qc.ca/calendrier/bibliotheque-municipale-fermee-2/2025-01-06/
CATEGORIES:Bureau fermé
END:VEVENT
BEGIN:VEVENT
DTSTART;VALUE=DATE:20250105
DTEND;VALUE=DATE:20250106
DTSTAMP:20260421T062136
CREATED:20241113T050026Z
LAST-MODIFIED:20241113T164209Z
UID:6398-1736035200-1736121599@stcyrille.qc.ca
SUMMARY:Bibliothèque municipale fermée
DESCRIPTION:
URL:https://stcyrille.qc.ca/calendrier/bibliotheque-municipale-fermee-2/2025-01-05/
CATEGORIES:Bureau fermé
END:VEVENT
BEGIN:VEVENT
DTSTART;VALUE=DATE:20250104
DTEND;VALUE=DATE:20250105
DTSTAMP:20260421T062136
CREATED:20241113T050026Z
LAST-MODIFIED:20241113T164209Z
UID:6397-1735948800-1736035199@stcyrille.qc.ca
SUMMARY:Bibliothèque municipale fermée
DESCRIPTION:
URL:https://stcyrille.qc.ca/calendrier/bibliotheque-municipale-fermee-2/2025-01-04/
CATEGORIES:Bureau fermé
END:VEVENT
BEGIN:VEVENT
DTSTART;VALUE=DATE:20250103
DTEND;VALUE=DATE:20250104
DTSTAMP:20260421T062136
CREATED:20241113T050026Z
LAST-MODIFIED:20241113T164209Z
UID:6396-1735862400-1735948799@stcyrille.qc.ca
SUMMARY:Bibliothèque municipale fermée
DESCRIPTION:
URL:https://stcyrille.qc.ca/calendrier/bibliotheque-municipale-fermee-2/2025-01-03/
CATEGORIES:Bureau fermé
END:VEVENT
BEGIN:VEVENT
DTSTART;VALUE=DATE:20250102
DTEND;VALUE=DATE:20250103
DTSTAMP:20260421T062136
CREATED:20241113T050026Z
LAST-MODIFIED:20241113T164208Z
UID:6395-1735776000-1735862399@stcyrille.qc.ca
SUMMARY:Bibliothèque municipale fermée
DESCRIPTION:
URL:https://stcyrille.qc.ca/calendrier/bibliotheque-municipale-fermee-2/2025-01-02/
CATEGORIES:Bureau fermé
END:VEVENT
BEGIN:VEVENT
DTSTART;VALUE=DATE:20250101
DTEND;VALUE=DATE:20250102
DTSTAMP:20260421T062136
CREATED:20241113T050026Z
LAST-MODIFIED:20241113T164208Z
UID:6394-1735689600-1735775999@stcyrille.qc.ca
SUMMARY:Bibliothèque municipale fermée
DESCRIPTION:
URL:https://stcyrille.qc.ca/calendrier/bibliotheque-municipale-fermee-2/2025-01-01/
CATEGORIES:Bureau fermé
END:VEVENT
BEGIN:VEVENT
DTSTART;VALUE=DATE:20241231
DTEND;VALUE=DATE:20250101
DTSTAMP:20260421T062136
CREATED:20241113T050026Z
LAST-MODIFIED:20241113T164208Z
UID:6393-1735603200-1735689599@stcyrille.qc.ca
SUMMARY:Bibliothèque municipale fermée
DESCRIPTION:
URL:https://stcyrille.qc.ca/calendrier/bibliotheque-municipale-fermee-2/2024-12-31/
CATEGORIES:Bureau fermé
END:VEVENT
BEGIN:VEVENT
DTSTART;VALUE=DATE:20241230
DTEND;VALUE=DATE:20241231
DTSTAMP:20260421T062136
CREATED:20241113T050026Z
LAST-MODIFIED:20241113T164205Z
UID:6392-1735516800-1735603199@stcyrille.qc.ca
SUMMARY:Bibliothèque municipale fermée
DESCRIPTION:
URL:https://stcyrille.qc.ca/calendrier/bibliotheque-municipale-fermee-2/2024-12-30/
CATEGORIES:Bureau fermé
END:VEVENT
BEGIN:VEVENT
DTSTART;VALUE=DATE:20241229
DTEND;VALUE=DATE:20241230
DTSTAMP:20260421T062136
CREATED:20241113T050026Z
LAST-MODIFIED:20241113T164205Z
UID:6391-1735430400-1735516799@stcyrille.qc.ca
SUMMARY:Bibliothèque municipale fermée
DESCRIPTION:
URL:https://stcyrille.qc.ca/calendrier/bibliotheque-municipale-fermee-2/2024-12-29/
CATEGORIES:Bureau fermé
END:VEVENT
BEGIN:VEVENT
DTSTART;VALUE=DATE:20241228
DTEND;VALUE=DATE:20241229
DTSTAMP:20260421T062136
CREATED:20241113T050026Z
LAST-MODIFIED:20241113T164205Z
UID:6390-1735344000-1735430399@stcyrille.qc.ca
SUMMARY:Bibliothèque municipale fermée
DESCRIPTION:
URL:https://stcyrille.qc.ca/calendrier/bibliotheque-municipale-fermee-2/2024-12-28/
CATEGORIES:Bureau fermé
END:VEVENT
BEGIN:VEVENT
DTSTART;VALUE=DATE:20241227
DTEND;VALUE=DATE:20241228
DTSTAMP:20260421T062136
CREATED:20241113T050026Z
LAST-MODIFIED:20241113T164205Z
UID:6389-1735257600-1735343999@stcyrille.qc.ca
SUMMARY:Bibliothèque municipale fermée
DESCRIPTION:
URL:https://stcyrille.qc.ca/calendrier/bibliotheque-municipale-fermee-2/2024-12-27/
CATEGORIES:Bureau fermé
END:VEVENT
BEGIN:VEVENT
DTSTART;VALUE=DATE:20241226
DTEND;VALUE=DATE:20241227
DTSTAMP:20260421T062136
CREATED:20241113T050026Z
LAST-MODIFIED:20241113T164205Z
UID:6388-1735171200-1735257599@stcyrille.qc.ca
SUMMARY:Bibliothèque municipale fermée
DESCRIPTION:
URL:https://stcyrille.qc.ca/calendrier/bibliotheque-municipale-fermee-2/2024-12-26/
CATEGORIES:Bureau fermé
END:VEVENT
BEGIN:VEVENT
DTSTART;VALUE=DATE:20241225
DTEND;VALUE=DATE:20241226
DTSTAMP:20260421T062136
CREATED:20241113T050026Z
LAST-MODIFIED:20241113T164204Z
UID:6387-1735084800-1735171199@stcyrille.qc.ca
SUMMARY:Bibliothèque municipale fermée
DESCRIPTION:
URL:https://stcyrille.qc.ca/calendrier/bibliotheque-municipale-fermee-2/2024-12-25/
CATEGORIES:Bureau fermé
END:VEVENT
BEGIN:VEVENT
DTSTART;VALUE=DATE:20241224
DTEND;VALUE=DATE:20241225
DTSTAMP:20260421T062136
CREATED:20241113T050026Z
LAST-MODIFIED:20241113T164204Z
UID:6386-1734998400-1735084799@stcyrille.qc.ca
SUMMARY:Bibliothèque municipale fermée
DESCRIPTION:
URL:https://stcyrille.qc.ca/calendrier/bibliotheque-municipale-fermee-2/2024-12-24/
CATEGORIES:Bureau fermé
END:VEVENT
BEGIN:VEVENT
DTSTART;VALUE=DATE:20241223
DTEND;VALUE=DATE:20241224
DTSTAMP:20260421T062136
CREATED:20241113T050026Z
LAST-MODIFIED:20241113T164204Z
UID:6385-1734912000-1734998399@stcyrille.qc.ca
SUMMARY:Bibliothèque municipale fermée
DESCRIPTION:
URL:https://stcyrille.qc.ca/calendrier/bibliotheque-municipale-fermee-2/2024-12-23/
CATEGORIES:Bureau fermé
END:VEVENT
BEGIN:VEVENT
DTSTART;VALUE=DATE:20241222
DTEND;VALUE=DATE:20241223
DTSTAMP:20260421T062136
CREATED:20241113T050026Z
LAST-MODIFIED:20241113T164204Z
UID:6384-1734825600-1734911999@stcyrille.qc.ca
SUMMARY:Bibliothèque municipale fermée
DESCRIPTION:
URL:https://stcyrille.qc.ca/calendrier/bibliotheque-municipale-fermee-2/2024-12-22/
CATEGORIES:Bureau fermé
END:VEVENT
BEGIN:VEVENT
DTSTART;VALUE=DATE:20241221
DTEND;VALUE=DATE:20241222
DTSTAMP:20260421T062136
CREATED:20241113T050026Z
LAST-MODIFIED:20241113T164204Z
UID:6383-1734739200-1734825599@stcyrille.qc.ca
SUMMARY:Bibliothèque municipale fermée
DESCRIPTION:
URL:https://stcyrille.qc.ca/calendrier/bibliotheque-municipale-fermee-2/2024-12-21/
CATEGORIES:Bureau fermé
END:VEVENT
BEGIN:VEVENT
DTSTART;VALUE=DATE:20241220
DTEND;VALUE=DATE:20241221
DTSTAMP:20260421T062136
CREATED:20241113T050026Z
LAST-MODIFIED:20241113T164204Z
UID:6381-1734652800-1734739199@stcyrille.qc.ca
SUMMARY:Bibliothèque municipale fermée
DESCRIPTION:
URL:https://stcyrille.qc.ca/calendrier/bibliotheque-municipale-fermee-2/2024-12-20/
CATEGORIES:Bureau fermé
END:VEVENT
END:VCALENDAR