BEGIN:VCALENDAR
VERSION:2.0
PRODID:-//Municipalité de Saint-Cyrille-de-Wendover - ECPv6.15.20//NONSGML v1.0//EN
CALSCALE:GREGORIAN
METHOD:PUBLISH
X-WR-CALNAME:Municipalité de Saint-Cyrille-de-Wendover
X-ORIGINAL-URL:https://stcyrille.qc.ca
X-WR-CALDESC:Événements pour Municipalité de Saint-Cyrille-de-Wendover
REFRESH-INTERVAL;VALUE=DURATION:PT1H
X-Robots-Tag:noindex
X-PUBLISHED-TTL:PT1H
BEGIN:VTIMEZONE
TZID:America/New_York
BEGIN:DAYLIGHT
TZOFFSETFROM:-0500
TZOFFSETTO:-0400
TZNAME:EDT
DTSTART:20250309T070000
END:DAYLIGHT
BEGIN:STANDARD
TZOFFSETFROM:-0400
TZOFFSETTO:-0500
TZNAME:EST
DTSTART:20251102T060000
END:STANDARD
BEGIN:DAYLIGHT
TZOFFSETFROM:-0500
TZOFFSETTO:-0400
TZNAME:EDT
DTSTART:20260308T070000
END:DAYLIGHT
BEGIN:STANDARD
TZOFFSETFROM:-0400
TZOFFSETTO:-0500
TZNAME:EST
DTSTART:20261101T060000
END:STANDARD
BEGIN:DAYLIGHT
TZOFFSETFROM:-0500
TZOFFSETTO:-0400
TZNAME:EDT
DTSTART:20270314T070000
END:DAYLIGHT
BEGIN:STANDARD
TZOFFSETFROM:-0400
TZOFFSETTO:-0500
TZNAME:EST
DTSTART:20271107T060000
END:STANDARD
END:VTIMEZONE
BEGIN:VEVENT
DTSTART;VALUE=DATE:20260601
DTEND;VALUE=DATE:20260602
DTSTAMP:20260422T102529
CREATED:20251203T154934Z
LAST-MODIFIED:20251203T161024Z
UID:8022-1780272000-1780358399@stcyrille.qc.ca
SUMMARY:Bac noir (Ordures)
DESCRIPTION:
URL:https://stcyrille.qc.ca/calendrier/bac-noir-ordures/2026-06-01/
CATEGORIES:Ordures (Bac gris)
ATTACH;FMTTYPE=image/jpeg:https://stcyrille.qc.ca/wp-content/uploads/2023/05/Bac-gris_Municipalite-St-Cyrille-de-Wendover.jpg
END:VEVENT
BEGIN:VEVENT
DTSTART;VALUE=DATE:20260615
DTEND;VALUE=DATE:20260616
DTSTAMP:20260422T102529
CREATED:20251203T154934Z
LAST-MODIFIED:20251203T161024Z
UID:8023-1781481600-1781567999@stcyrille.qc.ca
SUMMARY:Bac noir (Ordures)
DESCRIPTION:
URL:https://stcyrille.qc.ca/calendrier/bac-noir-ordures/2026-06-15/
CATEGORIES:Ordures (Bac gris)
ATTACH;FMTTYPE=image/jpeg:https://stcyrille.qc.ca/wp-content/uploads/2023/05/Bac-gris_Municipalite-St-Cyrille-de-Wendover.jpg
END:VEVENT
BEGIN:VEVENT
DTSTART;VALUE=DATE:20260629
DTEND;VALUE=DATE:20260630
DTSTAMP:20260422T102529
CREATED:20251203T154934Z
LAST-MODIFIED:20251203T161025Z
UID:8024-1782691200-1782777599@stcyrille.qc.ca
SUMMARY:Bac noir (Ordures)
DESCRIPTION:
URL:https://stcyrille.qc.ca/calendrier/bac-noir-ordures/2026-06-29/
CATEGORIES:Ordures (Bac gris)
ATTACH;FMTTYPE=image/jpeg:https://stcyrille.qc.ca/wp-content/uploads/2023/05/Bac-gris_Municipalite-St-Cyrille-de-Wendover.jpg
END:VEVENT
END:VCALENDAR