BEGIN:VCALENDAR
VERSION:2.0
PRODID:-//Municipalité de Saint-Cyrille-de-Wendover - ECPv6.15.20//NONSGML v1.0//EN
CALSCALE:GREGORIAN
METHOD:PUBLISH
X-WR-CALNAME:Municipalité de Saint-Cyrille-de-Wendover
X-ORIGINAL-URL:https://stcyrille.qc.ca
X-WR-CALDESC:Événements pour Municipalité de Saint-Cyrille-de-Wendover
REFRESH-INTERVAL;VALUE=DURATION:PT1H
X-Robots-Tag:noindex
X-PUBLISHED-TTL:PT1H
BEGIN:VTIMEZONE
TZID:America/New_York
BEGIN:DAYLIGHT
TZOFFSETFROM:-0500
TZOFFSETTO:-0400
TZNAME:EDT
DTSTART:20220313T070000
END:DAYLIGHT
BEGIN:STANDARD
TZOFFSETFROM:-0400
TZOFFSETTO:-0500
TZNAME:EST
DTSTART:20221106T060000
END:STANDARD
BEGIN:DAYLIGHT
TZOFFSETFROM:-0500
TZOFFSETTO:-0400
TZNAME:EDT
DTSTART:20230312T070000
END:DAYLIGHT
BEGIN:STANDARD
TZOFFSETFROM:-0400
TZOFFSETTO:-0500
TZNAME:EST
DTSTART:20231105T060000
END:STANDARD
BEGIN:DAYLIGHT
TZOFFSETFROM:-0500
TZOFFSETTO:-0400
TZNAME:EDT
DTSTART:20240310T070000
END:DAYLIGHT
BEGIN:STANDARD
TZOFFSETFROM:-0400
TZOFFSETTO:-0500
TZNAME:EST
DTSTART:20241103T060000
END:STANDARD
END:VTIMEZONE
BEGIN:VEVENT
DTSTART;TZID=America/New_York:20231013T200000
DTEND;TZID=America/New_York:20231013T200000
DTSTAMP:20260424T203409
CREATED:20230911T170700Z
LAST-MODIFIED:20230911T170700Z
UID:4071-1697227200-1697227200@stcyrille.qc.ca
SUMMARY:Hockey Sénior: Le Maçonnerie Richard Lauzière et Fils
DESCRIPTION:Visiteur Windsor
URL:https://stcyrille.qc.ca/calendrier/hockey-senior-le-maconnerie-richard-lauziere-et-fils-3/
CATEGORIES:Calendrier des événements et activités,Événments et activités
ATTACH;FMTTYPE=image/jpeg:https://stcyrille.qc.ca/wp-content/uploads/2023/09/maconnerie-lauziere.jpg
END:VEVENT
BEGIN:VEVENT
DTSTART;TZID=America/New_York:20231028T210000
DTEND;TZID=America/New_York:20231028T210000
DTSTAMP:20260424T203409
CREATED:20230913T122411Z
LAST-MODIFIED:20230913T133049Z
UID:4162-1698526800-1698526800@stcyrille.qc.ca
SUMMARY:Hockey Sénior: Le Maçonnerie Richard Lauzière et fils
DESCRIPTION:Visiteur La Guadeloupe
URL:https://stcyrille.qc.ca/calendrier/hockey-senior-le-maconnerie-richard-lauziere-et-fils-4/
CATEGORIES:Calendrier des événements et activités,Événments et activités
ATTACH;FMTTYPE=image/jpeg:https://stcyrille.qc.ca/wp-content/uploads/2023/09/maconnerie-lauziere.jpg
END:VEVENT
END:VCALENDAR