BEGIN:VCALENDAR
VERSION:2.0
PRODID:-//Municipalité de Saint-Cyrille-de-Wendover - ECPv6.15.20//NONSGML v1.0//EN
CALSCALE:GREGORIAN
METHOD:PUBLISH
X-WR-CALNAME:Municipalité de Saint-Cyrille-de-Wendover
X-ORIGINAL-URL:https://stcyrille.qc.ca
X-WR-CALDESC:Événements pour Municipalité de Saint-Cyrille-de-Wendover
REFRESH-INTERVAL;VALUE=DURATION:PT1H
X-Robots-Tag:noindex
X-PUBLISHED-TTL:PT1H
BEGIN:VTIMEZONE
TZID:America/New_York
BEGIN:DAYLIGHT
TZOFFSETFROM:-0500
TZOFFSETTO:-0400
TZNAME:EDT
DTSTART:20220313T070000
END:DAYLIGHT
BEGIN:STANDARD
TZOFFSETFROM:-0400
TZOFFSETTO:-0500
TZNAME:EST
DTSTART:20221106T060000
END:STANDARD
BEGIN:DAYLIGHT
TZOFFSETFROM:-0500
TZOFFSETTO:-0400
TZNAME:EDT
DTSTART:20230312T070000
END:DAYLIGHT
BEGIN:STANDARD
TZOFFSETFROM:-0400
TZOFFSETTO:-0500
TZNAME:EST
DTSTART:20231105T060000
END:STANDARD
BEGIN:DAYLIGHT
TZOFFSETFROM:-0500
TZOFFSETTO:-0400
TZNAME:EDT
DTSTART:20240310T070000
END:DAYLIGHT
BEGIN:STANDARD
TZOFFSETFROM:-0400
TZOFFSETTO:-0500
TZNAME:EST
DTSTART:20241103T060000
END:STANDARD
END:VTIMEZONE
BEGIN:VEVENT
DTSTART;TZID=America/New_York:20231201T200000
DTEND;TZID=America/New_York:20231201T200000
DTSTAMP:20260424T180039
CREATED:20231004T131824Z
LAST-MODIFIED:20231004T131824Z
UID:4339-1701460800-1701460800@stcyrille.qc.ca
SUMMARY:Hockey Sénior: Maçonnerie Richard Lauzière et fils
DESCRIPTION:Visiteur Daveluyville
URL:https://stcyrille.qc.ca/calendrier/hockey-senior-maconnerie-richard-lauziere-et-fils-2/
CATEGORIES:Calendrier des événements et activités,Événments et activités
ATTACH;FMTTYPE=image/jpeg:https://stcyrille.qc.ca/wp-content/uploads/2023/09/maconnerie-lauziere.jpg
END:VEVENT
BEGIN:VEVENT
DTSTART;TZID=America/New_York:20231208T200000
DTEND;TZID=America/New_York:20231208T200000
DTSTAMP:20260424T180039
CREATED:20231004T131944Z
LAST-MODIFIED:20231004T131944Z
UID:4341-1702065600-1702065600@stcyrille.qc.ca
SUMMARY:Hockey Sénior: Maçonnerie Richard Lauzière et fils
DESCRIPTION:Visiteur Warwick
URL:https://stcyrille.qc.ca/calendrier/hockey-senior-maconnerie-richard-lauziere-et-fils-3/
CATEGORIES:Calendrier des événements et activités,Événments et activités
ATTACH;FMTTYPE=image/jpeg:https://stcyrille.qc.ca/wp-content/uploads/2023/09/maconnerie-lauziere.jpg
END:VEVENT
BEGIN:VEVENT
DTSTART;TZID=America/New_York:20231214T100000
DTEND;TZID=America/New_York:20231214T150000
DTSTAMP:20260424T180039
CREATED:20231213T181129Z
LAST-MODIFIED:20231213T181129Z
UID:5008-1702548000-1702566000@stcyrille.qc.ca
SUMMARY:Patinage libre
DESCRIPTION:Gratuit
URL:https://stcyrille.qc.ca/calendrier/patinage-libre-2/
CATEGORIES:Calendrier des événements et activités,Événments et activités
END:VEVENT
END:VCALENDAR