BEGIN:VCALENDAR
VERSION:2.0
PRODID:-//Municipalité de Saint-Cyrille-de-Wendover - ECPv6.15.20//NONSGML v1.0//EN
CALSCALE:GREGORIAN
METHOD:PUBLISH
X-WR-CALNAME:Municipalité de Saint-Cyrille-de-Wendover
X-ORIGINAL-URL:https://stcyrille.qc.ca
X-WR-CALDESC:Événements pour Municipalité de Saint-Cyrille-de-Wendover
REFRESH-INTERVAL;VALUE=DURATION:PT1H
X-Robots-Tag:noindex
X-PUBLISHED-TTL:PT1H
BEGIN:VTIMEZONE
TZID:America/New_York
BEGIN:DAYLIGHT
TZOFFSETFROM:-0500
TZOFFSETTO:-0400
TZNAME:EDT
DTSTART:20230312T070000
END:DAYLIGHT
BEGIN:STANDARD
TZOFFSETFROM:-0400
TZOFFSETTO:-0500
TZNAME:EST
DTSTART:20231105T060000
END:STANDARD
BEGIN:DAYLIGHT
TZOFFSETFROM:-0500
TZOFFSETTO:-0400
TZNAME:EDT
DTSTART:20240310T070000
END:DAYLIGHT
BEGIN:STANDARD
TZOFFSETFROM:-0400
TZOFFSETTO:-0500
TZNAME:EST
DTSTART:20241103T060000
END:STANDARD
BEGIN:DAYLIGHT
TZOFFSETFROM:-0500
TZOFFSETTO:-0400
TZNAME:EDT
DTSTART:20250309T070000
END:DAYLIGHT
BEGIN:STANDARD
TZOFFSETFROM:-0400
TZOFFSETTO:-0500
TZNAME:EST
DTSTART:20251102T060000
END:STANDARD
END:VTIMEZONE
BEGIN:VEVENT
DTSTART;TZID=America/New_York:20240909T193000
DTEND;TZID=America/New_York:20240909T193000
DTSTAMP:20260425T102722
CREATED:20231204T203827Z
LAST-MODIFIED:20231204T203827Z
UID:4700-1725910200-1725910200@stcyrille.qc.ca
SUMMARY:Séance du conseil
DESCRIPTION:
URL:https://stcyrille.qc.ca/calendrier/seance-du-conseil-19/
CATEGORIES:Calendrier des séances du conseil
END:VEVENT
BEGIN:VEVENT
DTSTART;TZID=America/New_York:20240917T190000
DTEND;TZID=America/New_York:20240917T190000
DTSTAMP:20260425T102722
CREATED:20240912T185318Z
LAST-MODIFIED:20240912T185318Z
UID:5886-1726599600-1726599600@stcyrille.qc.ca
SUMMARY:Séance extraordinaire du conseil
DESCRIPTION:
URL:https://stcyrille.qc.ca/calendrier/seance-extraordinaire-du-conseil-8/
CATEGORIES:Calendrier des séances du conseil
END:VEVENT
BEGIN:VEVENT
DTSTART;TZID=America/New_York:20240925T190000
DTEND;TZID=America/New_York:20240925T190000
DTSTAMP:20260425T102722
CREATED:20240920T154702Z
LAST-MODIFIED:20240920T154702Z
UID:5978-1727290800-1727290800@stcyrille.qc.ca
SUMMARY:Séance extraordinaire
DESCRIPTION:
URL:https://stcyrille.qc.ca/calendrier/seance-extraordinaire-3/
CATEGORIES:Calendrier des séances du conseil
END:VEVENT
END:VCALENDAR