BEGIN:VCALENDAR
VERSION:2.0
PRODID:-//Municipalité de Saint-Cyrille-de-Wendover - ECPv6.15.20//NONSGML v1.0//EN
CALSCALE:GREGORIAN
METHOD:PUBLISH
X-WR-CALNAME:Municipalité de Saint-Cyrille-de-Wendover
X-ORIGINAL-URL:https://stcyrille.qc.ca
X-WR-CALDESC:Événements pour Municipalité de Saint-Cyrille-de-Wendover
REFRESH-INTERVAL;VALUE=DURATION:PT1H
X-Robots-Tag:noindex
X-PUBLISHED-TTL:PT1H
BEGIN:VTIMEZONE
TZID:America/New_York
BEGIN:DAYLIGHT
TZOFFSETFROM:-0500
TZOFFSETTO:-0400
TZNAME:EDT
DTSTART:20220313T070000
END:DAYLIGHT
BEGIN:STANDARD
TZOFFSETFROM:-0400
TZOFFSETTO:-0500
TZNAME:EST
DTSTART:20221106T060000
END:STANDARD
BEGIN:DAYLIGHT
TZOFFSETFROM:-0500
TZOFFSETTO:-0400
TZNAME:EDT
DTSTART:20230312T070000
END:DAYLIGHT
BEGIN:STANDARD
TZOFFSETFROM:-0400
TZOFFSETTO:-0500
TZNAME:EST
DTSTART:20231105T060000
END:STANDARD
BEGIN:DAYLIGHT
TZOFFSETFROM:-0500
TZOFFSETTO:-0400
TZNAME:EDT
DTSTART:20240310T070000
END:DAYLIGHT
BEGIN:STANDARD
TZOFFSETFROM:-0400
TZOFFSETTO:-0500
TZNAME:EST
DTSTART:20241103T060000
END:STANDARD
END:VTIMEZONE
BEGIN:VEVENT
DTSTART;VALUE=DATE:20230508
DTEND;VALUE=DATE:20230509
DTSTAMP:20260422T191804
CREATED:20230518T200249Z
LAST-MODIFIED:20230531T143812Z
UID:2974-1683504000-1683590399@stcyrille.qc.ca
SUMMARY:Gros rebuts
DESCRIPTION:Appareils réfrigérants et matériel électronique interdits\nTout d’abord\, en raison de la nouvelle réglementation provinciale sur les halocarbures\, les appareils réfrigérants (réfrigérateurs\, congélateurs\, thermopompes\, climatiseurs\, distributeurs d’eau\, etc.) ne sont plus acceptés lors des collectes d’encombrants. Ces appareils\, lorsque mal gérés\, contribuent de façon notable aux émissions de gaz à effet de serre. Le gouvernement du Québec travaille à la mise en place d’un réseau pour la prise en charge de ces appareils. Pour l’instant\, l’écocentre les accepte et\, selon leur état\, des commerces spécialisés dans le réemploi peuvent les reprendre. \nLes appareils électroniques et informatiques (téléviseurs\, systèmes audio\, téléphones\, ordinateurs\, consoles de jeux\, etc.) font également partie des objets exclus des collectes. Les fameux « Serpuariens » ont peut-être fait leur temps dans votre foyer\, mais plusieurs de leurs composantes\, dont certaines sont toxiques\, doivent être récupérées et traitées de façon sécuritaire. Les points de dépôt pour s’en départir sont très nombreux (lesserpuariens.com). \nRésidus de CRD\nRègle générale\, les municipalités n’autorisent pas les résidus de construction\, de rénovation et de démolition (CRD) dans les gros rebuts. Ces matériaux peuvent très souvent être transformés ou réemployés; il est donc préférable de les acheminer à l’écocentre\, à l’exception des résidus contenant de l’amiante. \nRésidus domestiques dangereux\nIl est important de savoir que les résidus domestiques dangereux (peinture\, solvants\, produits de nettoyage\, huiles usées\, pesticides\, pneus\, batteries de véhicules moteurs\, piles\, bonbonnes de gaz propane\, etc.) ne sont pas acceptés lors des collectes d’encombrants en raison des risques qu’ils comportent. Certains de ceux-ci\, comme la peinture et les pneus\, peuvent être rapportés dans de multiples points de dépôt et l’écocentre accepte tous les types de résidus dangereux qui découlent d’un usage domestique. \nEn résumé…\nLes collectes d’encombrants doivent être perçues comme une solution de dernier recours. Dès qu’une matière ou qu’un objet peut être réemployé ou valorisé\, ou qu’il contient des composantes toxiques\, d’autres avenues sont à privilégier.
URL:https://stcyrille.qc.ca/calendrier/collecte-des-gros-rebuts/2023-05-08/
CATEGORIES:Gros rebuts
END:VEVENT
END:VCALENDAR